BEGIN:VCALENDAR
VERSION:2.0
PRODID:-//film scoring tips - ECPv6.15.1.1//NONSGML v1.0//EN
CALSCALE:GREGORIAN
METHOD:PUBLISH
X-WR-CALNAME:film scoring tips
X-ORIGINAL-URL:https://filmscoringtips.com
X-WR-CALDESC:Events for film scoring tips
REFRESH-INTERVAL;VALUE=DURATION:PT1H
X-Robots-Tag:noindex
X-PUBLISHED-TTL:PT1H
BEGIN:VTIMEZONE
TZID:Europe/London
BEGIN:DAYLIGHT
TZOFFSETFROM:+0000
TZOFFSETTO:+0100
TZNAME:BST
DTSTART:20190331T010000
END:DAYLIGHT
BEGIN:STANDARD
TZOFFSETFROM:+0100
TZOFFSETTO:+0000
TZNAME:GMT
DTSTART:20191027T010000
END:STANDARD
END:VTIMEZONE
BEGIN:VEVENT
DTSTART;TZID=Europe/London:20190912T190000
DTEND;TZID=Europe/London:20190912T220000
DTSTAMP:20260424T114204
CREATED:20190813T155523Z
LAST-MODIFIED:20190905T094054Z
UID:2221-1568314800-1568325600@filmscoringtips.com
SUMMARY:Film Scoring Tips spectacular 1st BIRTHDAY PARTY
DESCRIPTION:I can’t believe Film Scoring Tips is about to turn one already. At the same time thanks to the support from the community of readers and the kindness of our guest authors I feel we achieved a ton in such a short amount of time. With this spirit I sat down with a few friends and talked about the best way to celebrate with the people who made all this possible. And so we started shaping Film Scoring Tips first public event! \n\n\n\nI am proud to officially open the sale of tickets for our spectacular 1st birthday party! Now some important info… \n\n\n\nWhen and where?\n\n\n\n\n\nThe event will be hosted on Thursday 12 September\, 7pm @ Spitfire Audio headquarters in London! Use the buttons above to add it to your calendar. Here’s the location on a map: \n\n\n\n\n\n\n\nWhat?\n\n\n\n\n\n\n\nThe event is an opportunity to meet like-minded people while getting insight on the exciting world of film music.  \n\n\n\nGuests will be able to network with fellow composers and filmmakers. A panel featuring some of the most popular FST authors will explore in depth their approach to film music with special focus on their best tips to date! \n\n\n\nThere’s more!!\n\n\n\n\n\n\n\nDrinks and cake will be on us (courtesy of Spitfire Audio)\, toast with us and get a slice! \n\n\n\nMore surprises await you at the event. \n\n\n\nGet me a ticket!\n\n\n\n\n\n\n\n\n\n\n\n\n\nClick here to go on the Eventbrite page of the event and get your ticket. \n\n\n\nI hope to see you there\, come and say hi! \n\n\n\nGiovanni
URL:https://filmscoringtips.com/event/1st-birthday-party/
LOCATION:Spitfire Audio HQ\, 25-27 Tileyard Rd\, London\, N7 9AH\, United Kingdom
CATEGORIES:Birthday Party,Networking,Panel
ATTACH;FMTTYPE=image/jpeg:https://filmscoringtips.com/wp-content/uploads/2019/08/greyson-joralemon-ORSGQc-2Ef8-unsplash.jpg
END:VEVENT
END:VCALENDAR